BEGIN:VCALENDAR
VERSION:2.0
PRODID:-//Kingdom Restoration Ministries International - ECPv6.15.20//NONSGML v1.0//EN
CALSCALE:GREGORIAN
METHOD:PUBLISH
X-ORIGINAL-URL:https://krminternational.org
X-WR-CALDESC:Events for Kingdom Restoration Ministries International
REFRESH-INTERVAL;VALUE=DURATION:PT1H
X-Robots-Tag:noindex
X-PUBLISHED-TTL:PT1H
BEGIN:VTIMEZONE
TZID:UTC
BEGIN:STANDARD
TZOFFSETFROM:+0000
TZOFFSETTO:+0000
TZNAME:UTC
DTSTART:20240101T000000
END:STANDARD
END:VTIMEZONE
BEGIN:VEVENT
DTSTART;VALUE=DATE:20251026
DTEND;VALUE=DATE:20251027
DTSTAMP:20260422T192627
CREATED:20251108T203901Z
LAST-MODIFIED:20251108T203929Z
UID:1245-1761436800-1761523199@krminternational.org
SUMMARY:2nd Anniversary Service
DESCRIPTION:
URL:https://krminternational.org/event/2nd-anniversary-service/
LOCATION:Fellowship Hall of St. Stephen Lutheran Church\, 1965 County Road E East White Bear Lake\, MN 55110\, MN\, 55110\, United States
ATTACH;FMTTYPE=image/jpeg:https://krminternational.org/krmi/wp-content/uploads/2025/11/KRM-2nd-annive-24-Medium.jpg
END:VEVENT
END:VCALENDAR